BEGIN:VCALENDAR
PRODID:-//eluceo/ical//2.0/EN
VERSION:2.0
CALSCALE:GREGORIAN
BEGIN:VEVENT
UID:event-1212
DTSTAMP:20260422T141318Z
SUMMARY:Active Members Day 2026
DESCRIPTION:On Wednesday May 13\, the Active Members Day will take place. 
  We’ll gather around 15:00 at Tilburg central station to kick off an unf
 orgettable day together! From the very start\, expect something special\, 
 a unique activity to set the tone and get everyone in the vibe.  After th
 at\, we’ll explore Nijmegen together\, discovering hidden spots and enjo
 ying the city. Ofcourse\, we’ll stop for a good meal! As the evening rol
 ls in\, we'll keep the energy going with a brewery visit and end the night
  in the city’s best party spots! We’ll head back to Tilburg by bus Par
 ticipation fee: maximum of €13 Registration All active members of Asset-
 Econometrics can register! The registration deadline is May 8\, 23:59. 
   This event is organized by the Active Members Day Committee. Do you als
 o want to join a committee? Become active by sending a mail to Vice-Chairm
 an@Asset-Econometrics.nl
DTSTART:20260513T130000Z
DTEND:20260514T010000Z
END:VEVENT
BEGIN:VTIMEZONE
TZID:UTC
BEGIN:STANDARD
DTSTART:20260513T130000
TZNAME:UTC
TZOFFSETTO:+0000
TZOFFSETFROM:+0000
END:STANDARD
END:VTIMEZONE
END:VCALENDAR
